BEGIN:VCALENDAR
VERSION:2.0
PRODID:-//wp-events-plugin.com//7.2.2.1//EN
BEGIN:VEVENT
UID:3@readysetagile.com
DTSTART;TZID=America/New_York:20200423T080000
DTEND;TZID=America/New_York:20200423T090000
DTSTAMP:20201127T205015Z
URL:https://www.readysetagile.com/events/breakfast-retrospective-where-are
 -we-with-all-this-change-2/
SUMMARY:Breakfast Retrospective: Where are we with all this change?
DESCRIPTION:Let there be no doubt - change has affected all of us lately. W
 e had no choice. We had to respond to it\, and we all responded differentl
 y. After all\, responding to change is one of the two purposes of Agility.
  So how did we handle the other purpose - obtain feedback rapidly? How did
  we self-organize? And most importantly\, what have we learned from this e
 xperience\, and how will we move forward?\n\nOur Breakfast Retrospective w
 ill allow you to collaborate with others in the community to share your ex
 periences to the epidemic that we are all experiencing now. We will break 
 into small groups to share what has happened\, where we can move forward\,
  and what changes we think our new culture will bring. This event is desig
 ned for everyone\, from those new to agile to those who make it a part of 
 their every day lives.\n\nFor this is a community event\, we ask that you 
 adhere to the Code of Conduct\, which includes being part of a respectful\
 , safe and inclusive environment for everyone\, and free from shameless pr
 omotions\, logos\, or other means to sell products or services.\n\nClick t
 he [Reserve Your Spot] button to register\, and enter your information wh
 ere applicable.
ATTACH;FMTTYPE=image/jpeg:https://www.readysetagile.com/wp-content/uploads
 /2020/04/coffee-and-bagel1.jpg
CATEGORIES:Public,Free,Online (via Zoom)
END:VEVENT
BEGIN:VTIMEZONE
TZID:America/New_York
X-LIC-LOCATION:America/New_York
BEGIN:DAYLIGHT
DTSTART:20200308T030000
TZOFFSETFROM:-0500
TZOFFSETTO:-0400
TZNAME:EDT
END:DAYLIGHT
END:VTIMEZONE
END:VCALENDAR