BEGIN:VCALENDAR
VERSION:2.0
PRODID:-//wp-events-plugin.com//7.2.2.1//EN
BEGIN:VEVENT
UID:587@readysetagile.com
DTSTART;TZID=America/New_York:20240219T090000
DTEND;TZID=America/New_York:20240220T170000
DTSTAMP:20240217T073756Z
URL:https://www.readysetagile.com/events/applying-professional-scrum-feb-1
 9-20-2024-in-person/
SUMMARY:Applying Professional Scrum | Feb 19-20\, 2024 | In Person
DESCRIPTION:\nCOURSE OVERVIEW\n\n\nApplying Professional ScrumTM&Acirc\;&nb
 sp\;(APS)&Acirc\;&nbsp\;is a hands-on\, activity based course in which stu
 dents experience how&Acirc\;&nbsp\;Professional Scrum&Acirc\;&nbsp\;and th
 e Scrum framework improve their ability to deliver value compared to tradi
 tional methods. &Acirc\;&nbsp\;Scrum provides a better way of working that
  highlights the use of experimentation\, incremental delivery of customer 
 value\, frequent feedback loops and the fostering of strong team dynamics.
 \n\n\n\nThe course provides an active learning environment for students to
  engage in discussion\, team-based exercises\, and individual reflection. 
 During the course\, students work in Scrum Teams over a series of Sprints 
 to learn Scrum while using Scrum.\nFull details of this session!\nRegister
  at Scrum.org! Click here!\n\n
ATTACH;FMTTYPE=image/jpeg:https://www.readysetagile.com/wp-content/uploads
 /2021/10/applying_professional_scrum_logo-e1666714119433.png
CATEGORIES:Class,Foundational,Online (via Zoom),Professional Scrum,Public
END:VEVENT
BEGIN:VTIMEZONE
TZID:America/New_York
X-LIC-LOCATION:America/New_York
BEGIN:STANDARD
DTSTART:20231105T010000
TZOFFSETFROM:-0400
TZOFFSETTO:-0500
TZNAME:EST
END:STANDARD
END:VTIMEZONE
END:VCALENDAR